BEGIN:VCALENDAR
VERSION:2.0
PRODID:-//Colorado Dental Association - ECPv6.15.20//NONSGML v1.0//EN
CALSCALE:GREGORIAN
METHOD:PUBLISH
X-ORIGINAL-URL:https://cdaonline.org
X-WR-CALDESC:Events for Colorado Dental Association
REFRESH-INTERVAL;VALUE=DURATION:PT1H
X-Robots-Tag:noindex
X-PUBLISHED-TTL:PT1H
BEGIN:VTIMEZONE
TZID:America/Denver
BEGIN:DAYLIGHT
TZOFFSETFROM:-0700
TZOFFSETTO:-0600
TZNAME:MDT
DTSTART:20230312T090000
END:DAYLIGHT
BEGIN:STANDARD
TZOFFSETFROM:-0600
TZOFFSETTO:-0700
TZNAME:MST
DTSTART:20231105T080000
END:STANDARD
BEGIN:DAYLIGHT
TZOFFSETFROM:-0700
TZOFFSETTO:-0600
TZNAME:MDT
DTSTART:20240310T090000
END:DAYLIGHT
BEGIN:STANDARD
TZOFFSETFROM:-0600
TZOFFSETTO:-0700
TZNAME:MST
DTSTART:20241103T080000
END:STANDARD
BEGIN:DAYLIGHT
TZOFFSETFROM:-0700
TZOFFSETTO:-0600
TZNAME:MDT
DTSTART:20250309T090000
END:DAYLIGHT
BEGIN:STANDARD
TZOFFSETFROM:-0600
TZOFFSETTO:-0700
TZNAME:MST
DTSTART:20251102T080000
END:STANDARD
END:VTIMEZONE
BEGIN:VEVENT
DTSTART;VALUE=DATE:20240118
DTEND;VALUE=DATE:20240121
DTSTAMP:20260419T220648
CREATED:20231024T234547Z
LAST-MODIFIED:20231026T003037Z
UID:133455-1705536000-1705795199@cdaonline.org
SUMMARY:Rocky Mountain Dental Convention
DESCRIPTION:January 18-20\, 2024 \nThe Rocky Mountain Dental Convention (RMDC) is the largest gathering of dental professionals in the Rocky Mountain region. Save the date for the 2024 event on January 18-20 in Denver\, CO.
URL:https://cdaonline.org/event/rocky-mountain-dental-convention/
LOCATION:Colorado Convention Center\, 700 14th St\, Denver\, CO\, 80202\, United States
ATTACH;FMTTYPE=image/jpeg:https://cdaonline.org/wp-content/uploads/2015/12/Blue_Bear.jpg
END:VEVENT
END:VCALENDAR