BEGIN:VCALENDAR
VERSION:2.0
PRODID:-//Colorado Dental Association - ECPv6.15.20//NONSGML v1.0//EN
CALSCALE:GREGORIAN
METHOD:PUBLISH
X-ORIGINAL-URL:https://cdaonline.org
X-WR-CALDESC:Events for Colorado Dental Association
REFRESH-INTERVAL;VALUE=DURATION:PT1H
X-Robots-Tag:noindex
X-PUBLISHED-TTL:PT1H
BEGIN:VTIMEZONE
TZID:America/Denver
BEGIN:DAYLIGHT
TZOFFSETFROM:-0700
TZOFFSETTO:-0600
TZNAME:MDT
DTSTART:20210314T090000
END:DAYLIGHT
BEGIN:STANDARD
TZOFFSETFROM:-0600
TZOFFSETTO:-0700
TZNAME:MST
DTSTART:20211107T080000
END:STANDARD
BEGIN:DAYLIGHT
TZOFFSETFROM:-0700
TZOFFSETTO:-0600
TZNAME:MDT
DTSTART:20220313T090000
END:DAYLIGHT
BEGIN:STANDARD
TZOFFSETFROM:-0600
TZOFFSETTO:-0700
TZNAME:MST
DTSTART:20221106T080000
END:STANDARD
BEGIN:DAYLIGHT
TZOFFSETFROM:-0700
TZOFFSETTO:-0600
TZNAME:MDT
DTSTART:20230312T090000
END:DAYLIGHT
BEGIN:STANDARD
TZOFFSETFROM:-0600
TZOFFSETTO:-0700
TZNAME:MST
DTSTART:20231105T080000
END:STANDARD
END:VTIMEZONE
BEGIN:VEVENT
DTSTART;TZID=America/Denver:20220825T120000
DTEND;TZID=America/Denver:20220825T130000
DTSTAMP:20260424T023334
CREATED:20211222T003214Z
LAST-MODIFIED:20221007T024928Z
UID:120073-1661428800-1661432400@cdaonline.org
SUMMARY:CE: Safe Opioid Prescribing for Dental Providers
DESCRIPTION:August 25\, Noon-1:00 p.m.\nFulfill the opioid training requirement for your dental license with this free webinar. The course will cover prescribing\, non-opioid pharmacologic treatment and academic detailing. This learning opportunity is provided by the CDA in partnership with the Colorado Consortium for Prescription Drug Abuse Prevention\, Colorado Medical Society\, CU Anschutz Campus and North Colorado Health Alliance. \nColorado Opioid Epidemic Symposium: Safe Opioid Prescribing for Dental Providers \nPresented by: Don Teater\, M.D.\, M.P.H.\, Pain and Addiction Specialist at Southeast Alaska Regional Health Consortium \nLearning Objectives: \n\nReview local and national data on opioid prescribing patterns.\nExplain the link between opioids and the neurobiology of addiction.\nFormulate a patient treatment plan that optimizes non-opioid pharmacologic treatment and non-pharmacologic supports for the treatment of acute dental pain.\nExplain Academic Detailing as an effective educational modality to reduce unsafe opioid prescribing.\n\nREGISTER HERE!\nCE Credit: 1 CE\nThe CDA designates this live activity for a maximum of 1 CERP Credit. Dentists should claim only the credit commensurate with the extent of their participation in the activity. \n  \nACCREDITATION STATEMENT\nThe CDA is an ADA CERP-recognized provider. \nADA CERP is a service of the American Dental Association to assist dental professionals in identifying quality providers of continuing dental education. ADA CERP does not approve or endorse individual courses or instructors\, nor does it imply acceptance of credit hours by boards of dentistry. \nConcerns or complaints about a CE provider may be directed to the provider or to the ADA CERP. Contact the provider\, the CDA\, at 8301 E. Prentice Ave.\, Suite 400\, Greenwood Village\, CO 80111; 303-740-6900; or 800-343-3010.
URL:https://cdaonline.org/event/ce-safe-opioid-prescribing-for-dental-providers-3/
ATTACH;FMTTYPE=image/jpeg:https://cdaonline.org/wp-content/uploads/2021/11/opioids3.jpg
ORGANIZER;CN="Colorado Dental Association":MAILTO:molly@cdaonline.org
END:VEVENT
END:VCALENDAR