BEGIN:VCALENDAR
VERSION:2.0
PRODID:-//Colorado Dental Association - ECPv6.15.20//NONSGML v1.0//EN
CALSCALE:GREGORIAN
METHOD:PUBLISH
X-WR-CALNAME:Colorado Dental Association
X-ORIGINAL-URL:https://cdaonline.org
X-WR-CALDESC:Events for Colorado Dental Association
REFRESH-INTERVAL;VALUE=DURATION:PT1H
X-Robots-Tag:noindex
X-PUBLISHED-TTL:PT1H
BEGIN:VTIMEZONE
TZID:America/Denver
BEGIN:DAYLIGHT
TZOFFSETFROM:-0700
TZOFFSETTO:-0600
TZNAME:MDT
DTSTART:20220313T090000
END:DAYLIGHT
BEGIN:STANDARD
TZOFFSETFROM:-0600
TZOFFSETTO:-0700
TZNAME:MST
DTSTART:20221106T080000
END:STANDARD
BEGIN:DAYLIGHT
TZOFFSETFROM:-0700
TZOFFSETTO:-0600
TZNAME:MDT
DTSTART:20230312T090000
END:DAYLIGHT
BEGIN:STANDARD
TZOFFSETFROM:-0600
TZOFFSETTO:-0700
TZNAME:MST
DTSTART:20231105T080000
END:STANDARD
BEGIN:DAYLIGHT
TZOFFSETFROM:-0700
TZOFFSETTO:-0600
TZNAME:MDT
DTSTART:20240310T090000
END:DAYLIGHT
BEGIN:STANDARD
TZOFFSETFROM:-0600
TZOFFSETTO:-0700
TZNAME:MST
DTSTART:20241103T080000
END:STANDARD
END:VTIMEZONE
BEGIN:VEVENT
DTSTART;TZID=America/Denver:20231005T160000
DTEND;TZID=America/Denver:20231005T170000
DTSTAMP:20260419T223707
CREATED:20230814T214602Z
LAST-MODIFIED:20230918T175008Z
UID:133550-1696521600-1696525200@cdaonline.org
SUMMARY:CE OSHA Training for Dental Teams
DESCRIPTION:October 5\, How comfortable are you with your overall safety and health management system if there is an investigation\, complaint\, or workplace injury tomorrow? Join the CDA’s compliance partner\, Abyde\, for an in-depth discussion around OSHA and how to maintain workplace safety for your employees and patients. \n\nUpon completion of this activity\, participants will be able to: \n\nUnderstand how OSHA compliance applies to your practice and employees on a daily basis\nGain insight into current OSHA enforcement trends\, including whistleblower protection and the inspection process\nPractice and put into place all the requirements needed to be OSHA compliant\n\nWhen:\nThursday\, October 5\, 2023 \nTime:\n4 – 5 pm \nWhere:\nZoom Webinar\nZoom instructions will be emailed to you prior to the webinar. \nCost:\n$25 for CDA Members’ individual office \n$50 for Non-members’ individual office \nCE Credit:\n1 CE (CERP) \nPresenter:\nMatt Leatherman\, compliance consultant at Abyde\, is an experienced HIPAA and OSHA compliance educator. Matt’s background has allowed him to gain detailed insights into the challenges of achieving and maintaining compliance as an independent provider\, including the difficulties and common mistakes in meeting government-mandated HIPAA and OSHA requirements. Abyde\, the industry-leading HIPAA compliance solution\, has provided education nationwide to providers of all specialties since 2016. \nRegistration Link: \nhttps://ebusiness.ada.org/Meetings/DefaultPo3.aspx?PO3ORGAPICODE=CO000UYGO87TYO8  \nHosted By: \nCDA and the Colorado Springs Dental Society    \nQuestions?\nContact Erica Carvin\, CDA Membership Director at 303-996-2842 or erica@cdaonline.org.
URL:https://cdaonline.org/event/ce-osha-training-for-dental-teams/
LOCATION:Zoom
ATTACH;FMTTYPE=image/jpeg:https://cdaonline.org/wp-content/uploads/2023/08/SafetyCompliance-scaled.jpg
ORGANIZER;CN="Colorado Springs Dental Society":MAILTO:sharynm@cs-ds.org
END:VEVENT
END:VCALENDAR