BEGIN:VCALENDAR
VERSION:2.0
PRODID:-//Colorado Dental Association - ECPv6.15.20//NONSGML v1.0//EN
CALSCALE:GREGORIAN
METHOD:PUBLISH
X-ORIGINAL-URL:https://cdaonline.org
X-WR-CALDESC:Events for Colorado Dental Association
REFRESH-INTERVAL;VALUE=DURATION:PT1H
X-Robots-Tag:noindex
X-PUBLISHED-TTL:PT1H
BEGIN:VTIMEZONE
TZID:America/Denver
BEGIN:DAYLIGHT
TZOFFSETFROM:-0700
TZOFFSETTO:-0600
TZNAME:MDT
DTSTART:20220313T090000
END:DAYLIGHT
BEGIN:STANDARD
TZOFFSETFROM:-0600
TZOFFSETTO:-0700
TZNAME:MST
DTSTART:20221106T080000
END:STANDARD
BEGIN:DAYLIGHT
TZOFFSETFROM:-0700
TZOFFSETTO:-0600
TZNAME:MDT
DTSTART:20230312T090000
END:DAYLIGHT
BEGIN:STANDARD
TZOFFSETFROM:-0600
TZOFFSETTO:-0700
TZNAME:MST
DTSTART:20231105T080000
END:STANDARD
BEGIN:DAYLIGHT
TZOFFSETFROM:-0700
TZOFFSETTO:-0600
TZNAME:MDT
DTSTART:20240310T090000
END:DAYLIGHT
BEGIN:STANDARD
TZOFFSETFROM:-0600
TZOFFSETTO:-0700
TZNAME:MST
DTSTART:20241103T080000
END:STANDARD
END:VTIMEZONE
BEGIN:VEVENT
DTSTART;TZID=America/Denver:20230929T073000
DTEND;TZID=America/Denver:20230929T150000
DTSTAMP:20260423T173505
CREATED:20230919T145316Z
LAST-MODIFIED:20230919T145316Z
UID:133987-1695972600-1695999600@cdaonline.org
SUMMARY:Western Colorado Dental Society (WCDS) Fall Meeting
DESCRIPTION:  \nWHERE: Wine Country Inn (map)  \nGoogle Calendar  ICS \n\nRegister here \nBeyond the Pulp: Non-Dental Causes of Facial Pain \nWe have all had that tricky patient. Radiographs are clear\, hygiene is immaculate\, and occlusion seems on\, yet they are still in pain. Sinus infections\, headaches\, TMD\, neurologic and inflammatory conditions can all mask or mimic dental pain. This lecture will explore the common causes and treatments of facial pain. In this day-long seminar\, Dr. Hatfield\, Program Director of Orofacial Pain at the University of Michigan\, will answer questions about when to prescribe\, what to fabricate\, and where to refer. You will become more confident in your ability to think beyond the pulp. \nJoin the WCDS for a day of lectures\, vendors\, and\, most importantly\, socializing on September 29\, 2023. Westerncoloradodentalsociety@gmail.com
URL:https://cdaonline.org/event/western-colorado-dental-society-wcds-fall-meeting/
END:VEVENT
END:VCALENDAR