BEGIN:VCALENDAR
VERSION:2.0
PRODID:-//Colorado Dental Association - ECPv6.15.20//NONSGML v1.0//EN
CALSCALE:GREGORIAN
METHOD:PUBLISH
X-ORIGINAL-URL:https://cdaonline.org
X-WR-CALDESC:Events for Colorado Dental Association
REFRESH-INTERVAL;VALUE=DURATION:PT1H
X-Robots-Tag:noindex
X-PUBLISHED-TTL:PT1H
BEGIN:VTIMEZONE
TZID:America/Denver
BEGIN:DAYLIGHT
TZOFFSETFROM:-0700
TZOFFSETTO:-0600
TZNAME:MDT
DTSTART:20230312T090000
END:DAYLIGHT
BEGIN:STANDARD
TZOFFSETFROM:-0600
TZOFFSETTO:-0700
TZNAME:MST
DTSTART:20231105T080000
END:STANDARD
BEGIN:DAYLIGHT
TZOFFSETFROM:-0700
TZOFFSETTO:-0600
TZNAME:MDT
DTSTART:20240310T090000
END:DAYLIGHT
BEGIN:STANDARD
TZOFFSETFROM:-0600
TZOFFSETTO:-0700
TZNAME:MST
DTSTART:20241103T080000
END:STANDARD
BEGIN:DAYLIGHT
TZOFFSETFROM:-0700
TZOFFSETTO:-0600
TZNAME:MDT
DTSTART:20250309T090000
END:DAYLIGHT
BEGIN:STANDARD
TZOFFSETFROM:-0600
TZOFFSETTO:-0700
TZNAME:MST
DTSTART:20251102T080000
END:STANDARD
END:VTIMEZONE
BEGIN:VEVENT
DTSTART;TZID=America/Denver:20240822T183000
DTEND;TZID=America/Denver:20240822T203000
DTSTAMP:20260421T140316
CREATED:20240401T162606Z
LAST-MODIFIED:20240520T171509Z
UID:136319-1724351400-1724358600@cdaonline.org
SUMMARY:End of Summer Bash
DESCRIPTION:Thursday\, August 22 – Grab your friends and celebrate the end of summer with CDA & MDDS! Indulge in gastropub-style appetizers\, cocktails\, and refreshments at BurnDown. Connect with your colleagues\, build your community\, and have fun at this NO cost event. Plus\, guests can close out the evening with live music during BurnDown’s City Sunset Series. \n\nThursday\, August 22\, 2024\n6:30pm – 8:30pm\nFREE for CDA members\n\nRegister HERE  \n \n  \n  \n  \n  \nSponsored by: US Bank \nQuestions: Contact CDA Membership Director Erica Carvin at 303-996-2842 or Erica@cdaonline.org or MDDS Director of Marketing & Membership at 303 957-3270 or marcom@mddsdentist.com.
URL:https://cdaonline.org/event/end-of-summer-bash-2/
LOCATION:BurnDown\, 476 S Broadway\, Denver\, CO\, 80209\, United States
ATTACH;FMTTYPE=image/jpeg:https://cdaonline.org/wp-content/uploads/2024/04/SummerBash24-IG-1080x1080-1-e1713835301467.jpg
ORGANIZER;CN="Erica Carvin%2C CDA Director of Membership":MAILTO:erica@cdaonline.org
END:VEVENT
END:VCALENDAR