BEGIN:VCALENDAR
VERSION:2.0
PRODID:-//Colorado Dental Association - ECPv6.15.20//NONSGML v1.0//EN
CALSCALE:GREGORIAN
METHOD:PUBLISH
X-ORIGINAL-URL:https://cdaonline.org
X-WR-CALDESC:Events for Colorado Dental Association
REFRESH-INTERVAL;VALUE=DURATION:PT1H
X-Robots-Tag:noindex
X-PUBLISHED-TTL:PT1H
BEGIN:VTIMEZONE
TZID:America/Denver
BEGIN:DAYLIGHT
TZOFFSETFROM:-0700
TZOFFSETTO:-0600
TZNAME:MDT
DTSTART:20230312T090000
END:DAYLIGHT
BEGIN:STANDARD
TZOFFSETFROM:-0600
TZOFFSETTO:-0700
TZNAME:MST
DTSTART:20231105T080000
END:STANDARD
BEGIN:DAYLIGHT
TZOFFSETFROM:-0700
TZOFFSETTO:-0600
TZNAME:MDT
DTSTART:20240310T090000
END:DAYLIGHT
BEGIN:STANDARD
TZOFFSETFROM:-0600
TZOFFSETTO:-0700
TZNAME:MST
DTSTART:20241103T080000
END:STANDARD
BEGIN:DAYLIGHT
TZOFFSETFROM:-0700
TZOFFSETTO:-0600
TZNAME:MDT
DTSTART:20250309T090000
END:DAYLIGHT
BEGIN:STANDARD
TZOFFSETFROM:-0600
TZOFFSETTO:-0700
TZNAME:MST
DTSTART:20251102T080000
END:STANDARD
END:VTIMEZONE
BEGIN:VEVENT
DTSTART;TZID=America/Denver:20240302T080000
DTEND;TZID=America/Denver:20240302T154500
DTSTAMP:20260423T041910
CREATED:20231214T181231Z
LAST-MODIFIED:20231214T181520Z
UID:134839-1709366400-1709394300@cdaonline.org
SUMMARY:DEA Opiate Prescriber MATE Act Training (March 2 Livestream Event)
DESCRIPTION:This 6-hour course fulfills the training needs mandated by the MATE Act for your DEA registration. Gain insights into evidence-based pain management\, opiate alternatives\, legal aspects and safety enhancements. (6 CE Credits)\n\n\n\n\n\n\n$199.00\nRetail Price  Purchase on the ADA Store\n\n\n\n\nSavings up to $100 for  \n\nDental Team\nMembers\n\n\n\n\n\n\n\n\n\n\n\n\n\n\n\nNOTE: This is a livestreamed event scheduled for March 2\, 2024. It is not included with the ADA CE Online subscription.\nDate: Saturday\, March 2\, 2024\nTime: 8 a.m.– 3:45 p.m. Central \nThis six-hour course fulfills the training needs mandated by the MATE Act for your DEA registration. Gain insights into evidence-based pain management\, opiate alternatives\, legal aspects and safety enhancements. With information from an oral maxillofacial surgeon\, Harvard physician\, hometown pharmacist and community-centered addiction counselor\, you will come away with critical\, practical information and completed DEA prescriber requirements. \nPresentation 1: Opiates and Dentistry: Where Are We Now? \nPresenter: Angie Rake\, DDS\nLearning Objectives\n• Discuss substance use disorders (SUD)\n• Consider current statistics of SUD in the United States\, analyze the top four substances of misuse\, and review their impact on dental procedures and surgeries\n• Understand special considerations for patients with opioid use disorder\, buprenorphine\, and considerations and agreements when prescribing opioids\n• Acknowledge the importance of communication with patients and medical specialists regarding pain management. \nPresentation 2: Identification and Management of Opioid and Substance Use Disorders in Pediatric Patients \nLearning Objectives\n• Describe alcohol and drug use in early adolescence with progression to substance and opioid use disorders in late adolescence\n• Discuss the neurocognitive effects of addictive substances on the developing adolescent brain\n• Discuss patterns\, trends\, epidemiology\, and contributing factors to opioid and other substance use \ abuse among the child and adolescent population\n• Discuss how the dental team can identify and manage substance use and withdrawal syndrome behaviors in patients\n• Recognize and deliver safe dental procedures for children and adolescents who are actively using alcohol and/or other drugs\n• Develop strategies for brief interventions\, referrals\, and resources for children\, adolescents\, parents\, and caregivers. \nPresentation 3: Mixing Common Prescriptions with Pain Management Medication: Insights from Your Local Pharmacist\nPresenter: Ashley Duggins\, Pharm.D. \nLearning Objectives\n• Identify the ten most prescribed medications in adults and pediatrics and what types of pain management medications are most effective\n• Recognize common dental issues associated with certain disease states. and complications that prescribed medications can cause regarding dental health\n• Identify limitations various federal mandates have on dentist’s medication prescribing\n• Understand the role of a clinical pharmacist in improving dental health\n• Develop a cheat sheet with the right pain medication choices for patients with specific disease states \nPresentation 4: What Happens After You Identify and Refer Patients with Opioid and Other Substance Abuse Disorders?\nPresenter: Evan Rosenthal\, L.P.C.C.\, L.A.D.C. \nLearning Objectives\n• Evaluate best practices in referral by analyzing case studies and implement screening tools\, such as the Opioid Risk Tool (ORT) or the Screener and Opioid Assessment for Patients with Pain (SOAPP)\, to identify potential cases of opioid abuse\n• Recognize signs of opioid abuse\, including changes in behavior or mood\, frequent requests for early refills or lost prescriptions and evidence of drug-seeking behavior\n• Utilize prescription drug monitoring programs (PDMPs) to track patients’ prescription histories and identify potential cases of opioid abuse or diversion\n• Refer patients with suspected addiction to specialists\, such as psychiatrists\, addiction medicine physicians\, or substance abuse counselors\, for evaluation and treatment\n• Identify how teens\, young adults\, adults\, and seniors with substance abuse disorders may present in the dental clinic\n• Evaluate the prevalence of substance abuse disorders among LGBTQ+ patients\n• Provide educational resources for providers\, patients\, families\, and caregivers related to opioid abuse and addiction \nRecommended for: All dental professionals \n\n\n\n\nAuthors:\n\nAngie Rake\, D.D.S.\, Adjunct Associate Professor\, Division of Oral and Maxillofacial Surgery\, University of Minnesota School of Dentistry\nScott Hadland\, M.D.\, M.P.H.\, M.S.\, Pediatrician | Addiction Specialist | Chief of Adolescent and Young Adult Medicine\, Massachusetts General Hospital for Children and Harvard Medical School\nEvan Rosenthal\, M.S.\, L.P.C.C.\, L.A.D.C.\, Psychotherapist\, Transcend Psychotherapy\nAshley Duggins\, Pharm.D.\, Co-owner and Pharmacy Manager\, Prevo Drug\, Asheville\, NC.
URL:https://cdaonline.org/event/dea-opiate-prescriber-mate-act-training-march-2-livestream-event/
ATTACH;FMTTYPE=image/png:https://cdaonline.org/wp-content/uploads/2023/12/ADAlogo-2.png
END:VEVENT
END:VCALENDAR