BEGIN:VCALENDAR
VERSION:2.0
PRODID:-//Colorado Dental Association - ECPv6.15.20//NONSGML v1.0//EN
CALSCALE:GREGORIAN
METHOD:PUBLISH
X-ORIGINAL-URL:https://cdaonline.org
X-WR-CALDESC:Events for Colorado Dental Association
REFRESH-INTERVAL;VALUE=DURATION:PT1H
X-Robots-Tag:noindex
X-PUBLISHED-TTL:PT1H
BEGIN:VTIMEZONE
TZID:America/Denver
BEGIN:DAYLIGHT
TZOFFSETFROM:-0700
TZOFFSETTO:-0600
TZNAME:MDT
DTSTART:20240310T090000
END:DAYLIGHT
BEGIN:STANDARD
TZOFFSETFROM:-0600
TZOFFSETTO:-0700
TZNAME:MST
DTSTART:20241103T080000
END:STANDARD
BEGIN:DAYLIGHT
TZOFFSETFROM:-0700
TZOFFSETTO:-0600
TZNAME:MDT
DTSTART:20250309T090000
END:DAYLIGHT
BEGIN:STANDARD
TZOFFSETFROM:-0600
TZOFFSETTO:-0700
TZNAME:MST
DTSTART:20251102T080000
END:STANDARD
BEGIN:DAYLIGHT
TZOFFSETFROM:-0700
TZOFFSETTO:-0600
TZNAME:MDT
DTSTART:20260308T090000
END:DAYLIGHT
BEGIN:STANDARD
TZOFFSETFROM:-0600
TZOFFSETTO:-0700
TZNAME:MST
DTSTART:20261101T080000
END:STANDARD
END:VTIMEZONE
BEGIN:VEVENT
DTSTART;TZID=America/Denver:20250601T150000
DTEND;TZID=America/Denver:20250601T170000
DTSTAMP:20260422T002621
CREATED:20250407T223831Z
LAST-MODIFIED:20250508T160033Z
UID:140611-1748790000-1748797200@cdaonline.org
SUMMARY:It's Time To Play Pickleball
DESCRIPTION:June 1\, 3 p.m. It’s time to play pickleball! All skill levels are invited. There will be an instructor on-site to give CDA members a lesson if you are just starting out or if you just want to play we will have courts available. Come play  some pickleball with your colleagues and enjoy food and beverages. Pickleball paddles are available as well.  \nJune 1 \n3 to 5 p.m. \nEpic Pickleball\n1980 East County Line Littleton\, CO 80126 \nNo cost for members and a guest. Space is limited so please register as soon as possible.
URL:https://cdaonline.org/event/its-time-to-play-pickleball/
LOCATION:Epic Pickleball\, 1980 E County Line Road\, Littleton\, CO\, United States
ATTACH;FMTTYPE=image/png:https://cdaonline.org/wp-content/uploads/2025/04/webPickleball-2.png
END:VEVENT
END:VCALENDAR