BEGIN:VCALENDAR
VERSION:2.0
PRODID:-//Colorado Dental Association - ECPv6.15.20//NONSGML v1.0//EN
CALSCALE:GREGORIAN
METHOD:PUBLISH
X-WR-CALNAME:Colorado Dental Association
X-ORIGINAL-URL:https://cdaonline.org
X-WR-CALDESC:Events for Colorado Dental Association
REFRESH-INTERVAL;VALUE=DURATION:PT1H
X-Robots-Tag:noindex
X-PUBLISHED-TTL:PT1H
BEGIN:VTIMEZONE
TZID:America/Denver
BEGIN:DAYLIGHT
TZOFFSETFROM:-0700
TZOFFSETTO:-0600
TZNAME:MDT
DTSTART:20210314T090000
END:DAYLIGHT
BEGIN:STANDARD
TZOFFSETFROM:-0600
TZOFFSETTO:-0700
TZNAME:MST
DTSTART:20211107T080000
END:STANDARD
BEGIN:DAYLIGHT
TZOFFSETFROM:-0700
TZOFFSETTO:-0600
TZNAME:MDT
DTSTART:20220313T090000
END:DAYLIGHT
BEGIN:STANDARD
TZOFFSETFROM:-0600
TZOFFSETTO:-0700
TZNAME:MST
DTSTART:20221106T080000
END:STANDARD
BEGIN:DAYLIGHT
TZOFFSETFROM:-0700
TZOFFSETTO:-0600
TZNAME:MDT
DTSTART:20230312T090000
END:DAYLIGHT
BEGIN:STANDARD
TZOFFSETFROM:-0600
TZOFFSETTO:-0700
TZNAME:MST
DTSTART:20231105T080000
END:STANDARD
END:VTIMEZONE
BEGIN:VEVENT
DTSTART;TZID=America/Denver:20220521T130000
DTEND;TZID=America/Denver:20220521T170000
DTSTAMP:20260419T085340
CREATED:20220217T164653Z
LAST-MODIFIED:20221007T030734Z
UID:122828-1653138000-1653152400@cdaonline.org
SUMMARY:CANCELLED: Speed "Dating" for Dental Transitions
DESCRIPTION:May 21\, 1:00–5:00 p.m. \nThis event has been cancelled. \nQuestions?\nContact Elisa Llodra at 303-996-2841 with questions about registration. \nContact Erica Carvin at 303-996-2842 or erica@cdaonline.org for all other questions about the event.
URL:https://cdaonline.org/event/speed-dating-for-dental-transitions/
LOCATION:Colorado Dental Association\, 8301 E. Prentice Ave.\, Ste. 400\, Greenwood Village\, CO\, 80111\, United States
ATTACH;FMTTYPE=image/jpeg:https://cdaonline.org/wp-content/uploads/2022/02/Handshake-with-Blurred-ManLR.jpg
ORGANIZER;CN="Colorado Dental Association":MAILTO:molly@cdaonline.org
END:VEVENT
BEGIN:VEVENT
DTSTART;TZID=America/Denver:20220428T183000
DTEND;TZID=America/Denver:20220428T203000
DTSTAMP:20260419T085340
CREATED:20220310T214113Z
LAST-MODIFIED:20221007T030535Z
UID:123867-1651170600-1651177800@cdaonline.org
SUMMARY:Reconnect! NDC Happy Hour
DESCRIPTION:April 28\, 6:30-8:30 p.m. \nJoin the CDA NDC for a happy hour at Rare by Grist Brewery! Come enjoy some light bites and upscale cocktails at this eclectic brewery that has a Meow Wolf-inspired ambiance. This will be a casual\, no agenda event to connect with your colleagues. \nCDA Members register at: Event Management (powerappsportals.com) for this free event. \nNon-CDA members register at https://ebusiness.ada.org/Meetings/DefaultPo3.aspx?PO3ORGAPICODE=CO000UYGO87TYO8. The cost to attend is $25. \nQuestions? \nContact CDA Membership Coordinator Elisa Llodra at 303-996-2841 or elisa@cdaonline.org. \n 
URL:https://cdaonline.org/event/reconnect-ndc-happy-hour/
LOCATION:Rare by Grist\, 9535 Park Meadows Dr\, Lone Tree\, CO\, 80124\, United States
ATTACH;FMTTYPE=image/jpeg:https://cdaonline.org/wp-content/uploads/2022/03/Grist.jpg
ORGANIZER;CN="Colorado Dental Association":MAILTO:molly@cdaonline.org
END:VEVENT
BEGIN:VEVENT
DTSTART;TZID=America/Denver:20220421T183000
DTEND;TZID=America/Denver:20220421T193000
DTSTAMP:20260419T085340
CREATED:20220322T231208Z
LAST-MODIFIED:20221007T031045Z
UID:124379-1650565800-1650569400@cdaonline.org
SUMMARY:Mitigating Risk and Spotting Embezzlement in your Practice
DESCRIPTION:April 21\, 6:30-7:30 p.m. \nWebinar: Internal fraud and embezzlement are the biggest risks facing dental practices today.  With the potential losses in the tens-of-thousands of dollars\, what can you do to protect your practice and your patients?  This informative and important presentation will highlight the various types of embezzlement\, how to spot them\, and what to do to mitigate your risk.  \nLearning Objectives: \n\nDiscover the steps you can take to prevent fraud\nLearn how to spot potential embezzlement in your dental practice\nLearn about the many types of embezzlement\nDetermine what to do if you suspect fraud\nFind out the costs of complacency\n\nTarget Audience:  \n            Dentists only (no staff) \nSpeaker: \nPhil Nieto is the President of RJ Card Processing d/b/a Best Card. After leaving behind the legal world\, Phil has enjoyed the positivity of working directly with dentists to help them understand the confusing credit card processing industry and save more of their hard-earned money with Best Card.  \nREGISTER TODAY! \nhttps://cdaonline-org.zoom.us/meeting/register/tZwpf-2pqDsqHNIgv_eRM_Skhh_QNt4KyHuN \n 
URL:https://cdaonline.org/event/mitigating-risk-and-spotting-embezzlement-in-your-practice/
LOCATION:CO
ATTACH;FMTTYPE=image/jpeg:https://cdaonline.org/wp-content/uploads/2022/03/stealing.jpg
ORGANIZER;CN="Colorado Dental Association":MAILTO:molly@cdaonline.org
END:VEVENT
END:VCALENDAR